BEGIN:VCALENDAR
VERSION:2.0
PRODID:-//Coast Episcopal School - ECPv6.15.20//NONSGML v1.0//EN
CALSCALE:GREGORIAN
METHOD:PUBLISH
X-ORIGINAL-URL:https://coastepiscopalschool.org
X-WR-CALDESC:Events for Coast Episcopal School
REFRESH-INTERVAL;VALUE=DURATION:PT1H
X-Robots-Tag:noindex
X-PUBLISHED-TTL:PT1H
BEGIN:VTIMEZONE
TZID:America/Kentucky/Louisville
BEGIN:DAYLIGHT
TZOFFSETFROM:-0500
TZOFFSETTO:-0400
TZNAME:EDT
DTSTART:20200308T070000
END:DAYLIGHT
BEGIN:STANDARD
TZOFFSETFROM:-0400
TZOFFSETTO:-0500
TZNAME:EST
DTSTART:20201101T060000
END:STANDARD
BEGIN:DAYLIGHT
TZOFFSETFROM:-0500
TZOFFSETTO:-0400
TZNAME:EDT
DTSTART:20210314T070000
END:DAYLIGHT
BEGIN:STANDARD
TZOFFSETFROM:-0400
TZOFFSETTO:-0500
TZNAME:EST
DTSTART:20211107T060000
END:STANDARD
BEGIN:DAYLIGHT
TZOFFSETFROM:-0500
TZOFFSETTO:-0400
TZNAME:EDT
DTSTART:20220313T070000
END:DAYLIGHT
BEGIN:STANDARD
TZOFFSETFROM:-0400
TZOFFSETTO:-0500
TZNAME:EST
DTSTART:20221106T060000
END:STANDARD
END:VTIMEZONE
BEGIN:VEVENT
DTSTART;TZID=America/Kentucky/Louisville:20211204T100000
DTEND;TZID=America/Kentucky/Louisville:20211204T140000
DTSTAMP:20260422T113319
CREATED:20211115T163643Z
LAST-MODIFIED:20211130T160304Z
UID:7548-1638612000-1638626400@coastepiscopalschool.org
SUMMARY:Nativity Workshop with Stacey Johnson Hardy
DESCRIPTION:Nativity Workshop with Stacey Hardy\nSaturday\, December 4\n10 AM to 2 PM \nGail Keenan Art Center\nCoast Episcopal School\n5065 Espy Avenue\nLong Beach. MS 39560 \nSaturday\, December 4\, 2021\n10 AM to 2 PM\nPlease pack a lunch \nCost: $125 per person ages 16 and up\n$25 per child working with a parent \nRegister here\nJoin us for an easy\, enjoyable workshop as we create a nativity scene from clay. Artist Stacey Hardy will provide templates for creating nativity figures and instruction on how to embellish your work with texture tools\, mark making\, and glazing. Participants are encouraged to bring ideas or sketches to class\, and we’ll also review some nativity images from around the world. Your style can be as traditional or modern as you like! The finished Nativity figures will be available to pick up at Coast Episcopal School December 13-16. \nOpen to individuals over the age of 16. Children 6 to 15 years of age may participate if working with an adult. Adults must supervise children as we want this to be a relaxing and enjoyable class for all in attendance.
URL:https://coastepiscopalschool.org/event/nativity-workshop-with-stacey-johnson-hardy/
LOCATION:Gail Keenan Art Center\, 5065 Espy Ave\, Long Beach\, MS\, 39560\, United States
CATEGORIES:GKAC
ATTACH;FMTTYPE=image/png:https://coastepiscopalschool.org/mc/wp-content/uploads/2021/11/Nativity-set.png
END:VEVENT
END:VCALENDAR