BEGIN:VCALENDAR
VERSION:2.0
PRODID:-//Coast Episcopal School - ECPv6.15.20//NONSGML v1.0//EN
CALSCALE:GREGORIAN
METHOD:PUBLISH
X-WR-CALNAME:Coast Episcopal School
X-ORIGINAL-URL:https://coastepiscopalschool.org
X-WR-CALDESC:Events for Coast Episcopal School
REFRESH-INTERVAL;VALUE=DURATION:PT1H
X-Robots-Tag:noindex
X-PUBLISHED-TTL:PT1H
BEGIN:VTIMEZONE
TZID:America/Kentucky/Louisville
BEGIN:DAYLIGHT
TZOFFSETFROM:-0500
TZOFFSETTO:-0400
TZNAME:EDT
DTSTART:20210314T070000
END:DAYLIGHT
BEGIN:STANDARD
TZOFFSETFROM:-0400
TZOFFSETTO:-0500
TZNAME:EST
DTSTART:20211107T060000
END:STANDARD
BEGIN:DAYLIGHT
TZOFFSETFROM:-0500
TZOFFSETTO:-0400
TZNAME:EDT
DTSTART:20220313T070000
END:DAYLIGHT
BEGIN:STANDARD
TZOFFSETFROM:-0400
TZOFFSETTO:-0500
TZNAME:EST
DTSTART:20221106T060000
END:STANDARD
BEGIN:DAYLIGHT
TZOFFSETFROM:-0500
TZOFFSETTO:-0400
TZNAME:EDT
DTSTART:20230312T070000
END:DAYLIGHT
BEGIN:STANDARD
TZOFFSETFROM:-0400
TZOFFSETTO:-0500
TZNAME:EST
DTSTART:20231105T060000
END:STANDARD
END:VTIMEZONE
BEGIN:VEVENT
DTSTART;TZID=America/Kentucky/Louisville:20220524T163000
DTEND;TZID=America/Kentucky/Louisville:20220524T193000
DTSTAMP:20260422T045036
CREATED:20220510T190853Z
LAST-MODIFIED:20220510T190910Z
UID:7827-1653409800-1653420600@coastepiscopalschool.org
SUMMARY:CES Crawfish Boil
DESCRIPTION:
URL:https://coastepiscopalschool.org/event/ces-crawfish-boil/
LOCATION:CES Playground\, 5065 Espy Avenue\, Long Beach\, MS\, 39560\, United States
CATEGORIES:Event,School
ATTACH;FMTTYPE=image/jpeg:https://coastepiscopalschool.org/mc/wp-content/uploads/2022/05/Spring-2022-CES-PIcnic-1-e1695743619537.jpg
END:VEVENT
END:VCALENDAR