BEGIN:VCALENDAR
VERSION:2.0
PRODID:-//Coast Episcopal School - ECPv6.15.20//NONSGML v1.0//EN
CALSCALE:GREGORIAN
METHOD:PUBLISH
X-ORIGINAL-URL:https://coastepiscopalschool.org
X-WR-CALDESC:Events for Coast Episcopal School
REFRESH-INTERVAL;VALUE=DURATION:PT1H
X-Robots-Tag:noindex
X-PUBLISHED-TTL:PT1H
BEGIN:VTIMEZONE
TZID:America/Kentucky/Louisville
BEGIN:DAYLIGHT
TZOFFSETFROM:-0500
TZOFFSETTO:-0400
TZNAME:EDT
DTSTART:20230312T070000
END:DAYLIGHT
BEGIN:STANDARD
TZOFFSETFROM:-0400
TZOFFSETTO:-0500
TZNAME:EST
DTSTART:20231105T060000
END:STANDARD
BEGIN:DAYLIGHT
TZOFFSETFROM:-0500
TZOFFSETTO:-0400
TZNAME:EDT
DTSTART:20240310T070000
END:DAYLIGHT
BEGIN:STANDARD
TZOFFSETFROM:-0400
TZOFFSETTO:-0500
TZNAME:EST
DTSTART:20241103T060000
END:STANDARD
BEGIN:DAYLIGHT
TZOFFSETFROM:-0500
TZOFFSETTO:-0400
TZNAME:EDT
DTSTART:20250309T070000
END:DAYLIGHT
BEGIN:STANDARD
TZOFFSETFROM:-0400
TZOFFSETTO:-0500
TZNAME:EST
DTSTART:20251102T060000
END:STANDARD
END:VTIMEZONE
BEGIN:VEVENT
DTSTART;VALUE=DATE:20240119
DTEND;VALUE=DATE:20240209
DTSTAMP:20260422T181736
CREATED:20230822T171249Z
LAST-MODIFIED:20240206T143732Z
UID:8201-1705622400-1707436799@coastepiscopalschool.org
SUMMARY:Celebrate the Arts: Students and Mentors
DESCRIPTION:Celebrate the Arts: Students and Mentors\nJanuary 19- February 8\, 2024\nOpen-to-the-Public Reception\, 5-7 pm\, Tuesday\, February 6\, 2024 \nThe works of 20 Gulf Coast High School Students and letterpress artist Amos Paul Kennedy\, Jr\,  are featured at this show\, available for viewing by appointment. (Call 228-452-9442\, ext 102 to schedule.) \nOn Tuesday\, February 6\, from 5-7 pm\, an open-to-the-public reception for the show will feature award presentations to first\, second and third place high school winners\, judged by Sculptor Erica Larkin Gaudet.  Amos Kennedy will be on hand to personally pull letterpress posters and CES Alum and Board Member\, American Novelist Jesmyn Ward will provide a reading of her newest book\, “Let Us Descend.” Please RSVP to 228-452-9442 by Friday\, February 2.
URL:https://coastepiscopalschool.org/event/south-mississippi-high-school-art-show/
LOCATION:Gail Keenan Art Center\, 5065 Espy Ave\, Long Beach\, MS\, 39560\, United States
CATEGORIES:Event,GKAC
ATTACH;FMTTYPE=application/pdf:https://coastepiscopalschool.org/mc/wp-content/uploads/2023/08/Student-Mentor-Show-Digital-1.pdf
ORGANIZER;CN="GKAC":MAILTO:gkac@myces.org
END:VEVENT
END:VCALENDAR