BEGIN:VCALENDAR
VERSION:2.0
PRODID:-//Coast Episcopal School - ECPv6.15.20//NONSGML v1.0//EN
CALSCALE:GREGORIAN
METHOD:PUBLISH
X-WR-CALNAME:Coast Episcopal School
X-ORIGINAL-URL:https://coastepiscopalschool.org
X-WR-CALDESC:Events for Coast Episcopal School
REFRESH-INTERVAL;VALUE=DURATION:PT1H
X-Robots-Tag:noindex
X-PUBLISHED-TTL:PT1H
BEGIN:VTIMEZONE
TZID:America/Kentucky/Louisville
BEGIN:DAYLIGHT
TZOFFSETFROM:-0500
TZOFFSETTO:-0400
TZNAME:EDT
DTSTART:20230312T070000
END:DAYLIGHT
BEGIN:STANDARD
TZOFFSETFROM:-0400
TZOFFSETTO:-0500
TZNAME:EST
DTSTART:20231105T060000
END:STANDARD
BEGIN:DAYLIGHT
TZOFFSETFROM:-0500
TZOFFSETTO:-0400
TZNAME:EDT
DTSTART:20240310T070000
END:DAYLIGHT
BEGIN:STANDARD
TZOFFSETFROM:-0400
TZOFFSETTO:-0500
TZNAME:EST
DTSTART:20241103T060000
END:STANDARD
BEGIN:DAYLIGHT
TZOFFSETFROM:-0500
TZOFFSETTO:-0400
TZNAME:EDT
DTSTART:20250309T070000
END:DAYLIGHT
BEGIN:STANDARD
TZOFFSETFROM:-0400
TZOFFSETTO:-0500
TZNAME:EST
DTSTART:20251102T060000
END:STANDARD
END:VTIMEZONE
BEGIN:VEVENT
DTSTART;VALUE=DATE:20240913
DTEND;VALUE=DATE:20241102
DTSTAMP:20260420T044046
CREATED:20240912T152407Z
LAST-MODIFIED:20240912T154453Z
UID:8526-1726185600-1730505599@coastepiscopalschool.org
SUMMARY:Legends @ Gail Keenan Art Center
DESCRIPTION:  \nLEGENDS ART SHOW @ Gail Keenan Art Gallery \nCurated by Gulf Coast Artist and Photographer Ann Madden \nWorks by five powerhouse artists:  Kat Fitzpatrick\, Erica Larkin Gaudet\, Mitchell Gaudet\, Ellen Ellis Lee\, Ruth Miller.  Opening Reception\, Friday\, September 13\, 5 – 7 pm.
URL:https://coastepiscopalschool.org/event/8526/
LOCATION:Gail Keenan Art Center\, 5065 Espy Ave\, Long Beach\, MS\, 39560\, United States
CATEGORIES:GKAC
ORGANIZER;CN="GKAC":MAILTO:gkac@myces.org
END:VEVENT
END:VCALENDAR