BEGIN:VCALENDAR
VERSION:2.0
PRODID:-//Coast Episcopal School - ECPv6.15.20//NONSGML v1.0//EN
CALSCALE:GREGORIAN
METHOD:PUBLISH
X-WR-CALNAME:Coast Episcopal School
X-ORIGINAL-URL:https://coastepiscopalschool.org
X-WR-CALDESC:Events for Coast Episcopal School
REFRESH-INTERVAL;VALUE=DURATION:PT1H
X-Robots-Tag:noindex
X-PUBLISHED-TTL:PT1H
BEGIN:VTIMEZONE
TZID:America/Kentucky/Louisville
BEGIN:DAYLIGHT
TZOFFSETFROM:-0500
TZOFFSETTO:-0400
TZNAME:EDT
DTSTART:20200308T070000
END:DAYLIGHT
BEGIN:STANDARD
TZOFFSETFROM:-0400
TZOFFSETTO:-0500
TZNAME:EST
DTSTART:20201101T060000
END:STANDARD
BEGIN:DAYLIGHT
TZOFFSETFROM:-0500
TZOFFSETTO:-0400
TZNAME:EDT
DTSTART:20210314T070000
END:DAYLIGHT
BEGIN:STANDARD
TZOFFSETFROM:-0400
TZOFFSETTO:-0500
TZNAME:EST
DTSTART:20211107T060000
END:STANDARD
BEGIN:DAYLIGHT
TZOFFSETFROM:-0500
TZOFFSETTO:-0400
TZNAME:EDT
DTSTART:20220313T070000
END:DAYLIGHT
BEGIN:STANDARD
TZOFFSETFROM:-0400
TZOFFSETTO:-0500
TZNAME:EST
DTSTART:20221106T060000
END:STANDARD
BEGIN:DAYLIGHT
TZOFFSETFROM:-0500
TZOFFSETTO:-0400
TZNAME:EDT
DTSTART:20230312T070000
END:DAYLIGHT
BEGIN:STANDARD
TZOFFSETFROM:-0400
TZOFFSETTO:-0500
TZNAME:EST
DTSTART:20231105T060000
END:STANDARD
BEGIN:DAYLIGHT
TZOFFSETFROM:-0500
TZOFFSETTO:-0400
TZNAME:EDT
DTSTART:20240310T070000
END:DAYLIGHT
BEGIN:STANDARD
TZOFFSETFROM:-0400
TZOFFSETTO:-0500
TZNAME:EST
DTSTART:20241103T060000
END:STANDARD
BEGIN:DAYLIGHT
TZOFFSETFROM:-0500
TZOFFSETTO:-0400
TZNAME:EDT
DTSTART:20250309T070000
END:DAYLIGHT
BEGIN:STANDARD
TZOFFSETFROM:-0400
TZOFFSETTO:-0500
TZNAME:EST
DTSTART:20251102T060000
END:STANDARD
END:VTIMEZONE
BEGIN:VEVENT
DTSTART;TZID=America/Kentucky/Louisville:20240419T160000
DTEND;TZID=America/Kentucky/Louisville:20240419T180000
DTSTAMP:20260419T200258
CREATED:20230822T171421Z
LAST-MODIFIED:20240302T001446Z
UID:8203-1713542400-1713549600@coastepiscopalschool.org
SUMMARY:Call of the Coast: Closing Champagne Reception
DESCRIPTION:Call of the Coast\nFebruary 23-April 19\, 2024\nwill feature the works of up to eight professional artists representing inspiration from land and sea\, which will be available for sale throughout the duration of the show \n  \n\nClosing Champagne Reception\,  April 19\, 2024   4-6 pm
URL:https://coastepiscopalschool.org/event/call-of-the-coast/
LOCATION:Gail Keenan Art Center\, 5065 Espy Ave\, Long Beach\, MS\, 39560\, United States
CATEGORIES:Event,GKAC
ATTACH;FMTTYPE=image/jpeg:https://coastepiscopalschool.org/mc/wp-content/uploads/2019/11/IMG_5969_sm.jpg
ORGANIZER;CN="GKAC":MAILTO:gkac@myces.org
END:VEVENT
BEGIN:VEVENT
DTSTART;TZID=America/Kentucky/Louisville:20240125T173000
DTEND;TZID=America/Kentucky/Louisville:20240125T183000
DTSTAMP:20260419T200258
CREATED:20240115T151534Z
LAST-MODIFIED:20240201T124616Z
UID:8346-1706203800-1706207400@coastepiscopalschool.org
SUMMARY:CES Early Childhood Open House
DESCRIPTION:Register To Visit
URL:https://coastepiscopalschool.org/event/ces-early-childhood-open-house/
LOCATION:Toddler Town and Preschool
CATEGORIES:Early Childhood,Event
ATTACH;FMTTYPE=image/png:https://coastepiscopalschool.org/mc/wp-content/uploads/2023/12/Early-Childhood-Photo-e1702655833783.png
END:VEVENT
BEGIN:VEVENT
DTSTART;VALUE=DATE:20240119
DTEND;VALUE=DATE:20240209
DTSTAMP:20260419T200258
CREATED:20230822T171249Z
LAST-MODIFIED:20240206T143732Z
UID:8201-1705622400-1707436799@coastepiscopalschool.org
SUMMARY:Celebrate the Arts: Students and Mentors
DESCRIPTION:Celebrate the Arts: Students and Mentors\nJanuary 19- February 8\, 2024\nOpen-to-the-Public Reception\, 5-7 pm\, Tuesday\, February 6\, 2024 \nThe works of 20 Gulf Coast High School Students and letterpress artist Amos Paul Kennedy\, Jr\,  are featured at this show\, available for viewing by appointment. (Call 228-452-9442\, ext 102 to schedule.) \nOn Tuesday\, February 6\, from 5-7 pm\, an open-to-the-public reception for the show will feature award presentations to first\, second and third place high school winners\, judged by Sculptor Erica Larkin Gaudet.  Amos Kennedy will be on hand to personally pull letterpress posters and CES Alum and Board Member\, American Novelist Jesmyn Ward will provide a reading of her newest book\, “Let Us Descend.” Please RSVP to 228-452-9442 by Friday\, February 2.
URL:https://coastepiscopalschool.org/event/south-mississippi-high-school-art-show/
LOCATION:Gail Keenan Art Center\, 5065 Espy Ave\, Long Beach\, MS\, 39560\, United States
CATEGORIES:Event,GKAC
ATTACH;FMTTYPE=application/pdf:https://coastepiscopalschool.org/mc/wp-content/uploads/2023/08/Student-Mentor-Show-Digital-1.pdf
ORGANIZER;CN="GKAC":MAILTO:gkac@myces.org
END:VEVENT
BEGIN:VEVENT
DTSTART;TZID=America/Kentucky/Louisville:20231020T180000
DTEND;TZID=America/Kentucky/Louisville:20231020T230000
DTSTAMP:20260419T200258
CREATED:20230822T181624Z
LAST-MODIFIED:20230914T201433Z
UID:8206-1697824800-1697842800@coastepiscopalschool.org
SUMMARY:Toast to the Coast - Forever Young - 40th Anniversary
DESCRIPTION:Join us for the 40th Anniversary of Coast Episcopal School’s annual fundraiser on Friday\, October 20\, 2023. One of the MS Gulf Coast’s signature events\, this year’s gala will be held at 845 East Scenic Drive in Pass Christian. Enjoy food from local restaurants\, breweries and bakeries; a silent AND a LIVE Auction\, Art Show for purchase\, and live music by Tyler Kinchen & The Right Pieces. Patron Party begins at 6 pm; Main Event\, at 7 pm. Main Event tickets: $125 per person. Patron Party and Main Event: $400 for two tickets. \n  \nSponsorships\nTickets
URL:https://coastepiscopalschool.org/event/toast-to-the-coast-forever-young-40th-anniversary/
LOCATION:MS
CATEGORIES:Event
ATTACH;FMTTYPE=image/jpeg:https://coastepiscopalschool.org/mc/wp-content/uploads/2023/09/Toast-2023.jpeg
END:VEVENT
BEGIN:VEVENT
DTSTART;TZID=America/Kentucky/Louisville:20230908T170000
DTEND;TZID=America/Kentucky/Louisville:20230908T190000
DTSTAMP:20260419T200258
CREATED:20230822T170608Z
LAST-MODIFIED:20230822T171715Z
UID:8198-1694192400-1694199600@coastepiscopalschool.org
SUMMARY:Flora Fauna Opening Reception
DESCRIPTION:Flora Fauna\nSeptember 8 through October 6\nwill open with a wine and cheese reception on Friday\, September 8\, 2023.\n\nThe art exhibition will feature works by Douglas Baulos\, Stephanie Flier\, Carmen Lugo\, Marti LeBourgeois McEnery and Adam Trest. Gulf Coast Musicians Matthew Williams\, pianist\, and Nataliya Molsbee\, vocalist\, will perform throughout the two-hour reception\, which is open to the public.
URL:https://coastepiscopalschool.org/event/flora-fauna-opening-reception/
LOCATION:Gail Keenan Art Center\, 5065 Espy Ave\, Long Beach\, MS\, 39560\, United States
CATEGORIES:Event,GKAC
ATTACH;FMTTYPE=image/jpeg:https://coastepiscopalschool.org/mc/wp-content/uploads/2023/08/FF-Direct-Mail-Cover-for-cc.jpeg
ORGANIZER;CN="GKAC":MAILTO:gkac@myces.org
END:VEVENT
BEGIN:VEVENT
DTSTART;TZID=America/Kentucky/Louisville:20230602T170000
DTEND;TZID=America/Kentucky/Louisville:20230602T190000
DTSTAMP:20260419T200258
CREATED:20230601T005002Z
LAST-MODIFIED:20230601T013816Z
UID:8173-1685725200-1685732400@coastepiscopalschool.org
SUMMARY:South Mississippi Art League Opening Reception
DESCRIPTION:
URL:https://coastepiscopalschool.org/event/south-mississippi-art-league-opening-reception/
LOCATION:Gail Keenan Art Center\, 5065 Espy Ave\, Long Beach\, MS\, 39560\, United States
CATEGORIES:Event,GKAC
ORGANIZER;CN="GKAC":MAILTO:gkac@myces.org
END:VEVENT
BEGIN:VEVENT
DTSTART;TZID=America/Kentucky/Louisville:20230331T170000
DTEND;TZID=America/Kentucky/Louisville:20230331T190000
DTSTAMP:20260419T200258
CREATED:20230213T163024Z
LAST-MODIFIED:20230213T163407Z
UID:8119-1680282000-1680289200@coastepiscopalschool.org
SUMMARY:Paper Fools Opening Reception
DESCRIPTION:Please mark your calendars for the opening reception for the 2023 Paper Fools!
URL:https://coastepiscopalschool.org/event/paper-fools-opening-reception/
LOCATION:Gail Keenan Art Center\, 5065 Espy Ave\, Long Beach\, MS\, 39560\, United States
CATEGORIES:GKAC
ATTACH;FMTTYPE=image/jpeg:https://coastepiscopalschool.org/mc/wp-content/uploads/2023/02/PaperFools2023small.jpg
ORGANIZER;CN="GKAC":MAILTO:gkac@myces.org
END:VEVENT
BEGIN:VEVENT
DTSTART;TZID=America/Kentucky/Louisville:20230304T100000
DTEND;TZID=America/Kentucky/Louisville:20230304T140000
DTSTAMP:20260419T200258
CREATED:20230209T201846Z
LAST-MODIFIED:20230209T202313Z
UID:8113-1677924000-1677938400@coastepiscopalschool.org
SUMMARY:Saturday Art Class with Suzanne Findeisen
DESCRIPTION:The Gail Keenan Art Center will host a Saturday Art Class with Suzanne Findeisen on Saturday\, March 4\, 2023. Open to adults and young adults\, with a max class size of 8\, participants will be introduced to the art of indigo dying using the Japanese folding technique called Shibori. \nParticipants will be provided with directions on how to mix the dye\, fold fabrics and complete the dying process. \nStudents will be provided material\, dye and tools to make several pieces. They also can bring fabric or clothing from home to dye or over dye and give old fabric a new life! \nClass Details: \n\nMarch 4\, 2023\n10 am – 2 pm\nPlease pack a lunch/snack\nCost: $65\nLocation: Gail Keenan Art Center Art Room\, Coast Episcopal School\, 5065 Espy Avenue\, Long Beach\, MS 39560\n\nRegister here
URL:https://coastepiscopalschool.org/event/saturday-art-class-with-suzanne-findeisen/
LOCATION:Gail Keenan Art Center\, 5065 Espy Ave\, Long Beach\, MS\, 39560\, United States
CATEGORIES:GKAC
ATTACH;FMTTYPE=image/jpeg:https://coastepiscopalschool.org/mc/wp-content/uploads/2023/02/Indigo-scaled-e1675974178252.jpg
ORGANIZER;CN="GKAC":MAILTO:gkac@myces.org
END:VEVENT
BEGIN:VEVENT
DTSTART;VALUE=DATE:20221219
DTEND;VALUE=DATE:20230103
DTSTAMP:20260419T200258
CREATED:20220715T185832Z
LAST-MODIFIED:20220715T185832Z
UID:7925-1671408000-1672703999@coastepiscopalschool.org
SUMMARY:Christmas Break
DESCRIPTION:
URL:https://coastepiscopalschool.org/event/christmas-break-2/
LOCATION:MS
CATEGORIES:School
END:VEVENT
BEGIN:VEVENT
DTSTART;VALUE=DATE:20221216
DTEND;VALUE=DATE:20221217
DTSTAMP:20260419T200258
CREATED:20220715T185758Z
LAST-MODIFIED:20220715T185758Z
UID:7923-1671148800-1671235199@coastepiscopalschool.org
SUMMARY:End of second 9 weeks
DESCRIPTION:
URL:https://coastepiscopalschool.org/event/end-of-second-9-weeks/
LOCATION:MS
CATEGORIES:School
END:VEVENT
BEGIN:VEVENT
DTSTART;VALUE=DATE:20221121
DTEND;VALUE=DATE:20221126
DTSTAMP:20260419T200258
CREATED:20220715T185700Z
LAST-MODIFIED:20220715T185700Z
UID:7921-1668988800-1669420799@coastepiscopalschool.org
SUMMARY:Thanksgiving Break
DESCRIPTION:
URL:https://coastepiscopalschool.org/event/thanksgiving-break-2/
LOCATION:MS
CATEGORIES:School
END:VEVENT
BEGIN:VEVENT
DTSTART;VALUE=DATE:20221031
DTEND;VALUE=DATE:20221102
DTSTAMP:20260419T200258
CREATED:20220715T185620Z
LAST-MODIFIED:20220715T185620Z
UID:7919-1667174400-1667347199@coastepiscopalschool.org
SUMMARY:Fall Break
DESCRIPTION:
URL:https://coastepiscopalschool.org/event/fall-break/
LOCATION:MS
CATEGORIES:School
END:VEVENT
BEGIN:VEVENT
DTSTART;VALUE=DATE:20221014
DTEND;VALUE=DATE:20221015
DTSTAMP:20260419T200258
CREATED:20220715T185443Z
LAST-MODIFIED:20220715T185443Z
UID:7915-1665705600-1665791999@coastepiscopalschool.org
SUMMARY:End of first 9 weeks
DESCRIPTION:
URL:https://coastepiscopalschool.org/event/end-of-first-9-weeks/
LOCATION:MS
CATEGORIES:School
END:VEVENT
BEGIN:VEVENT
DTSTART;VALUE=DATE:20220905
DTEND;VALUE=DATE:20220906
DTSTAMP:20260419T200258
CREATED:20220715T185415Z
LAST-MODIFIED:20220715T185415Z
UID:7913-1662336000-1662422399@coastepiscopalschool.org
SUMMARY:Labor Day (No school)
DESCRIPTION:
URL:https://coastepiscopalschool.org/event/labor-day-no-school/
LOCATION:MS
CATEGORIES:School
END:VEVENT
BEGIN:VEVENT
DTSTART;TZID=America/Kentucky/Louisville:20220524T163000
DTEND;TZID=America/Kentucky/Louisville:20220524T193000
DTSTAMP:20260419T200258
CREATED:20220510T190853Z
LAST-MODIFIED:20220510T190910Z
UID:7827-1653409800-1653420600@coastepiscopalschool.org
SUMMARY:CES Crawfish Boil
DESCRIPTION:
URL:https://coastepiscopalschool.org/event/ces-crawfish-boil/
LOCATION:CES Playground\, 5065 Espy Avenue\, Long Beach\, MS\, 39560\, United States
CATEGORIES:Event,School
ATTACH;FMTTYPE=image/jpeg:https://coastepiscopalschool.org/mc/wp-content/uploads/2022/05/Spring-2022-CES-PIcnic-1-e1695743619537.jpg
END:VEVENT
BEGIN:VEVENT
DTSTART;TZID=America/Kentucky/Louisville:20220521T110000
DTEND;TZID=America/Kentucky/Louisville:20220521T140000
DTSTAMP:20260419T200258
CREATED:20220510T190554Z
LAST-MODIFIED:20220519T174425Z
UID:7823-1653130800-1653141600@coastepiscopalschool.org
SUMMARY:CES Family & Alumni Picnic
DESCRIPTION:We hope to see you at the 2022 Spring Picnic! Please check this page or our Facebook page for any changes or updates due to weather.
URL:https://coastepiscopalschool.org/event/ces-family-alumni-picnic/
LOCATION:CES Playground\, 5065 Espy Avenue\, Long Beach\, MS\, 39560\, United States
CATEGORIES:Event,School
END:VEVENT
BEGIN:VEVENT
DTSTART;TZID=America/Kentucky/Louisville:20220401T170000
DTEND;TZID=America/Kentucky/Louisville:20220401T190000
DTSTAMP:20260419T200259
CREATED:20220316T163330Z
LAST-MODIFIED:20220316T163518Z
UID:7728-1648832400-1648839600@coastepiscopalschool.org
SUMMARY:Paper Fools: Works on Paper Opening Reception
DESCRIPTION:  \nGail Keenan Art Center at Coast Episcopal School Presents Paper Fools: Works on Paper \nOpening Reception is April 1st from 5 p.m. to 7 p.m. \n  \n\nLONG BEACH\, Miss. — The Gail Keenan Art Center at Coast Episcopal School is excited to announce Paper Fools: Works on Paper\, a group show featuring paper-based art created by some of the area’s most dynamic artists. Paper Fools will be on view April 1 to April 30\, 2022. \nCurated by Gulf Coast photographer and artist Ann Madden\, the show will also feature works by artists Kat Fitzpatrick\, Laurin Stennis\, Church Goin’ Mule\, Mary Hardy\, Paulette Dove\, Yuki Northington\, Laura Scialdone\, Michelle Allee\, Kerr Grabowski\, Diane Killeen\, Sadako Lewis\, Dale Pohl\, Suzanne Findeisen\, Annita Johnson and Carmen Lugo. \n“These sixteen artists have transformed the most basic of art supplies\, a piece of paper\, into something extraordinary\,” said Madden\, who added that drawing\, painting\, mixed media\, photography and print are among the mediums that will be displayed. \nAn Opening Reception\, free and open to the public\, will be held on Friday\, April 1\, from 5:00 P.M. to 7:00 P.M. Works will be available for purchase\, and a portion of each sale supports the Gail Keenan Art Center\, whose mission is to enhance arts education and appreciation of the arts at Coast Episcopal School and the Gulf Coast. \nThe Opening Reception also will include refreshments and a Paper Fools photobooth. DJ Side Hustle will be spinning vinyl during the reception to provide the soundtrack for this unique and celebratory event\, which marks the return of the art gallery’s public programming after the COVID-19 pandemic. \nCoast Episcopal School (www.coastepiscopalschool.org) is an independent school serving students from 18 months through sixth grade. Coast Episcopal School has fostered a life-long love of learning since 1950. For more information\, please call 228-452-9442 or visit www.coastepiscopalschool.org. 
URL:https://coastepiscopalschool.org/event/paper-fools-works-on-paper-opening-reception/
LOCATION:Gail Keenan Art Center\, 5065 Espy Ave\, Long Beach\, MS\, 39560\, United States
CATEGORIES:Event,GKAC
ATTACH;FMTTYPE=image/jpeg:https://coastepiscopalschool.org/mc/wp-content/uploads/2022/03/Paper-Fools-banner.jpg
ORGANIZER;CN="GKAC":MAILTO:gkac@myces.org
END:VEVENT
BEGIN:VEVENT
DTSTART;TZID=America/Kentucky/Louisville:20220223T090000
DTEND;TZID=America/Kentucky/Louisville:20220223T100000
DTSTAMP:20260419T200259
CREATED:20220118T235722Z
LAST-MODIFIED:20220209T164213Z
UID:7658-1645606800-1645610400@coastepiscopalschool.org
SUMMARY:K-6th Campus Tour
DESCRIPTION:
URL:https://coastepiscopalschool.org/event/k-6th-campus-tour/
LOCATION:Elementary School\, 5065 Espy Ave\, Long Beach\, MS\, 39560\, United States
CATEGORIES:Event
END:VEVENT
BEGIN:VEVENT
DTSTART;TZID=America/Kentucky/Louisville:20220222T090000
DTEND;TZID=America/Kentucky/Louisville:20220222T100000
DTSTAMP:20260419T200259
CREATED:20220118T235555Z
LAST-MODIFIED:20220209T164524Z
UID:7656-1645520400-1645524000@coastepiscopalschool.org
SUMMARY:Toddler/Preschool Campus Tour
DESCRIPTION:
URL:https://coastepiscopalschool.org/event/toddler-preschool-campus-tour/
LOCATION:Elementary School\, 5065 Espy Ave\, Long Beach\, MS\, 39560\, United States
CATEGORIES:Event
END:VEVENT
BEGIN:VEVENT
DTSTART;TZID=America/Kentucky/Louisville:20220216T080000
DTEND;TZID=America/Kentucky/Louisville:20220216T100000
DTSTAMP:20260419T200259
CREATED:20220119T000046Z
LAST-MODIFIED:20220209T164151Z
UID:7662-1644998400-1645005600@coastepiscopalschool.org
SUMMARY:K-6th Campus Tour
DESCRIPTION:
URL:https://coastepiscopalschool.org/event/k-6th-campus-tour-2/
LOCATION:Elementary School\, 5065 Espy Ave\, Long Beach\, MS\, 39560\, United States
CATEGORIES:Event
END:VEVENT
BEGIN:VEVENT
DTSTART;TZID=America/Kentucky/Louisville:20220215T090000
DTEND;TZID=America/Kentucky/Louisville:20220215T100000
DTSTAMP:20260419T200259
CREATED:20220118T235946Z
LAST-MODIFIED:20220209T164457Z
UID:7660-1644915600-1644919200@coastepiscopalschool.org
SUMMARY:Toddler/Preschool Campus Tour
DESCRIPTION:
URL:https://coastepiscopalschool.org/event/toddler-preschool-campus-tour-2/
LOCATION:Elementary School\, 5065 Espy Ave\, Long Beach\, MS\, 39560\, United States
CATEGORIES:Event
END:VEVENT
BEGIN:VEVENT
DTSTART;VALUE=DATE:20220125
DTEND;VALUE=DATE:20220215
DTSTAMP:20260419T200259
CREATED:20220118T235238Z
LAST-MODIFIED:20220126T161202Z
UID:7654-1643068800-1644883199@coastepiscopalschool.org
SUMMARY:Sock Drive
DESCRIPTION:
URL:https://coastepiscopalschool.org/event/sock-drive-ends/
LOCATION:MS
CATEGORIES:School
END:VEVENT
BEGIN:VEVENT
DTSTART;VALUE=DATE:20220117
DTEND;VALUE=DATE:20220118
DTSTAMP:20260419T200259
CREATED:20220118T235110Z
LAST-MODIFIED:20220118T235110Z
UID:7652-1642377600-1642463999@coastepiscopalschool.org
SUMMARY:MLK Jr. Day
DESCRIPTION:
URL:https://coastepiscopalschool.org/event/mlk-jr-day/
LOCATION:MS
CATEGORIES:School
END:VEVENT
BEGIN:VEVENT
DTSTART;VALUE=DATE:20211220
DTEND;VALUE=DATE:20220104
DTSTAMP:20260419T200259
CREATED:20211115T164420Z
LAST-MODIFIED:20211115T164420Z
UID:7550-1639958400-1641254399@coastepiscopalschool.org
SUMMARY:Christmas Break
DESCRIPTION:
URL:https://coastepiscopalschool.org/event/christmas-break/
LOCATION:MS
CATEGORIES:School
END:VEVENT
BEGIN:VEVENT
DTSTART;TZID=America/Kentucky/Louisville:20211217T100000
DTEND;TZID=America/Kentucky/Louisville:20211217T113000
DTSTAMP:20260419T200259
CREATED:20211115T163232Z
LAST-MODIFIED:20211115T163232Z
UID:7544-1639735200-1639740600@coastepiscopalschool.org
SUMMARY:Christmas Program
DESCRIPTION:
URL:https://coastepiscopalschool.org/event/christmas-program/
LOCATION:Elementary School\, 5065 Espy Ave\, Long Beach\, MS\, 39560\, United States
CATEGORIES:Event,School
END:VEVENT
BEGIN:VEVENT
DTSTART;VALUE=DATE:20211206
DTEND;VALUE=DATE:20211211
DTSTAMP:20260419T200259
CREATED:20211115T163335Z
LAST-MODIFIED:20211115T163335Z
UID:7546-1638748800-1639180799@coastepiscopalschool.org
SUMMARY:Winter Book Fair
DESCRIPTION:
URL:https://coastepiscopalschool.org/event/winter-book-fair/
LOCATION:Elementary School\, 5065 Espy Ave\, Long Beach\, MS\, 39560\, United States
CATEGORIES:School
END:VEVENT
BEGIN:VEVENT
DTSTART;TZID=America/Kentucky/Louisville:20211204T100000
DTEND;TZID=America/Kentucky/Louisville:20211204T140000
DTSTAMP:20260419T200259
CREATED:20211115T163643Z
LAST-MODIFIED:20211130T160304Z
UID:7548-1638612000-1638626400@coastepiscopalschool.org
SUMMARY:Nativity Workshop with Stacey Johnson Hardy
DESCRIPTION:Nativity Workshop with Stacey Hardy\nSaturday\, December 4\n10 AM to 2 PM \nGail Keenan Art Center\nCoast Episcopal School\n5065 Espy Avenue\nLong Beach. MS 39560 \nSaturday\, December 4\, 2021\n10 AM to 2 PM\nPlease pack a lunch \nCost: $125 per person ages 16 and up\n$25 per child working with a parent \nRegister here\nJoin us for an easy\, enjoyable workshop as we create a nativity scene from clay. Artist Stacey Hardy will provide templates for creating nativity figures and instruction on how to embellish your work with texture tools\, mark making\, and glazing. Participants are encouraged to bring ideas or sketches to class\, and we’ll also review some nativity images from around the world. Your style can be as traditional or modern as you like! The finished Nativity figures will be available to pick up at Coast Episcopal School December 13-16. \nOpen to individuals over the age of 16. Children 6 to 15 years of age may participate if working with an adult. Adults must supervise children as we want this to be a relaxing and enjoyable class for all in attendance.
URL:https://coastepiscopalschool.org/event/nativity-workshop-with-stacey-johnson-hardy/
LOCATION:Gail Keenan Art Center\, 5065 Espy Ave\, Long Beach\, MS\, 39560\, United States
CATEGORIES:GKAC
ATTACH;FMTTYPE=image/png:https://coastepiscopalschool.org/mc/wp-content/uploads/2021/11/Nativity-set.png
END:VEVENT
BEGIN:VEVENT
DTSTART;VALUE=DATE:20211122
DTEND;VALUE=DATE:20211127
DTSTAMP:20260419T200259
CREATED:20211115T163008Z
LAST-MODIFIED:20211115T163008Z
UID:7542-1637539200-1637971199@coastepiscopalschool.org
SUMMARY:Thanksgiving Break
DESCRIPTION:
URL:https://coastepiscopalschool.org/event/thanksgiving-break/
LOCATION:MS
END:VEVENT
BEGIN:VEVENT
DTSTART;TZID=America/Kentucky/Louisville:20211118T170000
DTEND;TZID=America/Kentucky/Louisville:20211118T190000
DTSTAMP:20260419T200259
CREATED:20211115T162426Z
LAST-MODIFIED:20211115T162426Z
UID:7539-1637254800-1637262000@coastepiscopalschool.org
SUMMARY:Chamber After 5 at Coast Episcopal School & the Gail Keenan Art Center
DESCRIPTION:
URL:https://coastepiscopalschool.org/event/chamber-after-5-at-coast-episcopal-school-the-gail-keenan-art-center/
LOCATION:Gail Keenan Art Center\, 5065 Espy Ave\, Long Beach\, MS\, 39560\, United States
CATEGORIES:Event,GKAC
END:VEVENT
BEGIN:VEVENT
DTSTART;TZID=America/Kentucky/Louisville:20211118T113000
DTEND;TZID=America/Kentucky/Louisville:20211118T120000
DTSTAMP:20260419T200259
CREATED:20211115T161937Z
LAST-MODIFIED:20211115T161937Z
UID:7536-1637235000-1637236800@coastepiscopalschool.org
SUMMARY:Makerspace Dedication
DESCRIPTION:
URL:https://coastepiscopalschool.org/event/makerspace-dedication/
LOCATION:MS
END:VEVENT
END:VCALENDAR