BEGIN:VCALENDAR
VERSION:2.0
PRODID:-//Coast Episcopal School - ECPv6.15.20//NONSGML v1.0//EN
CALSCALE:GREGORIAN
METHOD:PUBLISH
X-WR-CALNAME:Coast Episcopal School
X-ORIGINAL-URL:https://coastepiscopalschool.org
X-WR-CALDESC:Events for Coast Episcopal School
REFRESH-INTERVAL;VALUE=DURATION:PT1H
X-Robots-Tag:noindex
X-PUBLISHED-TTL:PT1H
BEGIN:VTIMEZONE
TZID:America/Kentucky/Louisville
BEGIN:DAYLIGHT
TZOFFSETFROM:-0500
TZOFFSETTO:-0400
TZNAME:EDT
DTSTART:20210314T070000
END:DAYLIGHT
BEGIN:STANDARD
TZOFFSETFROM:-0400
TZOFFSETTO:-0500
TZNAME:EST
DTSTART:20211107T060000
END:STANDARD
BEGIN:DAYLIGHT
TZOFFSETFROM:-0500
TZOFFSETTO:-0400
TZNAME:EDT
DTSTART:20220313T070000
END:DAYLIGHT
BEGIN:STANDARD
TZOFFSETFROM:-0400
TZOFFSETTO:-0500
TZNAME:EST
DTSTART:20221106T060000
END:STANDARD
BEGIN:DAYLIGHT
TZOFFSETFROM:-0500
TZOFFSETTO:-0400
TZNAME:EDT
DTSTART:20230312T070000
END:DAYLIGHT
BEGIN:STANDARD
TZOFFSETFROM:-0400
TZOFFSETTO:-0500
TZNAME:EST
DTSTART:20231105T060000
END:STANDARD
END:VTIMEZONE
BEGIN:VEVENT
DTSTART;TZID=America/Kentucky/Louisville:20220401T170000
DTEND;TZID=America/Kentucky/Louisville:20220401T190000
DTSTAMP:20260422T045106
CREATED:20220316T163330Z
LAST-MODIFIED:20220316T163518Z
UID:7728-1648832400-1648839600@coastepiscopalschool.org
SUMMARY:Paper Fools: Works on Paper Opening Reception
DESCRIPTION:  \nGail Keenan Art Center at Coast Episcopal School Presents Paper Fools: Works on Paper \nOpening Reception is April 1st from 5 p.m. to 7 p.m. \n  \n\nLONG BEACH\, Miss. — The Gail Keenan Art Center at Coast Episcopal School is excited to announce Paper Fools: Works on Paper\, a group show featuring paper-based art created by some of the area’s most dynamic artists. Paper Fools will be on view April 1 to April 30\, 2022. \nCurated by Gulf Coast photographer and artist Ann Madden\, the show will also feature works by artists Kat Fitzpatrick\, Laurin Stennis\, Church Goin’ Mule\, Mary Hardy\, Paulette Dove\, Yuki Northington\, Laura Scialdone\, Michelle Allee\, Kerr Grabowski\, Diane Killeen\, Sadako Lewis\, Dale Pohl\, Suzanne Findeisen\, Annita Johnson and Carmen Lugo. \n“These sixteen artists have transformed the most basic of art supplies\, a piece of paper\, into something extraordinary\,” said Madden\, who added that drawing\, painting\, mixed media\, photography and print are among the mediums that will be displayed. \nAn Opening Reception\, free and open to the public\, will be held on Friday\, April 1\, from 5:00 P.M. to 7:00 P.M. Works will be available for purchase\, and a portion of each sale supports the Gail Keenan Art Center\, whose mission is to enhance arts education and appreciation of the arts at Coast Episcopal School and the Gulf Coast. \nThe Opening Reception also will include refreshments and a Paper Fools photobooth. DJ Side Hustle will be spinning vinyl during the reception to provide the soundtrack for this unique and celebratory event\, which marks the return of the art gallery’s public programming after the COVID-19 pandemic. \nCoast Episcopal School (www.coastepiscopalschool.org) is an independent school serving students from 18 months through sixth grade. Coast Episcopal School has fostered a life-long love of learning since 1950. For more information\, please call 228-452-9442 or visit www.coastepiscopalschool.org. 
URL:https://coastepiscopalschool.org/event/paper-fools-works-on-paper-opening-reception/
LOCATION:Gail Keenan Art Center\, 5065 Espy Ave\, Long Beach\, MS\, 39560\, United States
CATEGORIES:Event,GKAC
ATTACH;FMTTYPE=image/jpeg:https://coastepiscopalschool.org/mc/wp-content/uploads/2022/03/Paper-Fools-banner.jpg
ORGANIZER;CN="GKAC":MAILTO:gkac@myces.org
END:VEVENT
END:VCALENDAR